BEGIN:VCALENDAR
VERSION:2.0
PRODID:-//Hypothekarbank Lenzburg AG//Hypi Academy//DE
TIMEZONE:Europe/Zurich
X-WR-TIMEZONE:Europe/Zurich
BEGIN:VEVENT
UID:29699@$https://www.hbl.ch/de/
SEQUENCE:0
X-MICROSOFT-CDO-BUSYSTATUS:BUSY
DTSTART:20260616T120000Z
DTEND:20260616T150000Z
DTSTAMP:20260425T125623Z
SUMMARY:Infonachmittag KV-Lehre Bank
LOCATION:Hauptsitz der Hypothekarbank Lenzburg 
DESCRIPTION:Der Infonachmittag richtet sich an Schülerinnen und Schüler der 8. Klasse, die sich für eine Banklehre interessieren.
URL;VALUE=URI:https://www.hbl.ch/de/ueber-uns/veranstaltungen/hypi-academy/unterwegs-als-jugendliche/infonachmittag-kv-lehre-bank/16062026/
END:VEVENT
END:VCALENDAR
